BEGIN:VCALENDAR
VERSION:2.0
PRODID:-//jEvents 2.0 for Joomla//EN
CALSCALE:GREGORIAN
METHOD:PUBLISH
BEGIN:VTIMEZONE
TZID:Europe/Berlin
BEGIN:STANDARD
DTSTART:20161030T020000
RDATE:20170326T030000
TZOFFSETFROM:+0200
TZOFFSETTO:+0100
TZNAME:Europe/Berlin CET
END:STANDARD
BEGIN:STANDARD
DTSTART:20171029T020000
RDATE:20180325T030000
TZOFFSETFROM:+0200
TZOFFSETTO:+0100
TZNAME:Europe/Berlin CET
END:STANDARD
BEGIN:STANDARD
DTSTART:20181028T020000
RDATE:20190331T030000
TZOFFSETFROM:+0200
TZOFFSETTO:+0100
TZNAME:Europe/Berlin CET
END:STANDARD
BEGIN:STANDARD
DTSTART:20191027T020000
RDATE:20200329T030000
TZOFFSETFROM:+0200
TZOFFSETTO:+0100
TZNAME:Europe/Berlin CET
END:STANDARD
BEGIN:STANDARD
DTSTART:20201025T020000
RDATE:20210328T030000
TZOFFSETFROM:+0200
TZOFFSETTO:+0100
TZNAME:Europe/Berlin CET
END:STANDARD
BEGIN:STANDARD
DTSTART:20211031T020000
RDATE:20220327T030000
TZOFFSETFROM:+0200
TZOFFSETTO:+0100
TZNAME:Europe/Berlin CET
END:STANDARD
BEGIN:STANDARD
DTSTART:20221030T020000
RDATE:20230326T030000
TZOFFSETFROM:+0200
TZOFFSETTO:+0100
TZNAME:Europe/Berlin CET
END:STANDARD
BEGIN:STANDARD
DTSTART:20231029T020000
RDATE:20240331T030000
TZOFFSETFROM:+0200
TZOFFSETTO:+0100
TZNAME:Europe/Berlin CET
END:STANDARD
BEGIN:STANDARD
DTSTART:20241027T020000
RDATE:20250330T030000
TZOFFSETFROM:+0200
TZOFFSETTO:+0100
TZNAME:Europe/Berlin CET
END:STANDARD
BEGIN:STANDARD
DTSTART:20251026T020000
RDATE:20260329T030000
TZOFFSETFROM:+0200
TZOFFSETTO:+0100
TZNAME:Europe/Berlin CET
END:STANDARD
BEGIN:STANDARD
DTSTART:20261025T020000
RDATE:20270328T030000
TZOFFSETFROM:+0200
TZOFFSETTO:+0100
TZNAME:Europe/Berlin CET
END:STANDARD
BEGIN:DAYLIGHT
DTSTART:20160406T193000
RDATE:20161030T020000
TZOFFSETFROM:+0100
TZOFFSETTO:+0200
TZNAME:Europe/Berlin CEST
END:DAYLIGHT
BEGIN:DAYLIGHT
DTSTART:20170326T030000
RDATE:20171029T020000
TZOFFSETFROM:+0100
TZOFFSETTO:+0200
TZNAME:Europe/Berlin CEST
END:DAYLIGHT
BEGIN:DAYLIGHT
DTSTART:20180325T030000
RDATE:20181028T020000
TZOFFSETFROM:+0100
TZOFFSETTO:+0200
TZNAME:Europe/Berlin CEST
END:DAYLIGHT
BEGIN:DAYLIGHT
DTSTART:20190331T030000
RDATE:20191027T020000
TZOFFSETFROM:+0100
TZOFFSETTO:+0200
TZNAME:Europe/Berlin CEST
END:DAYLIGHT
BEGIN:DAYLIGHT
DTSTART:20200329T030000
RDATE:20201025T020000
TZOFFSETFROM:+0100
TZOFFSETTO:+0200
TZNAME:Europe/Berlin CEST
END:DAYLIGHT
BEGIN:DAYLIGHT
DTSTART:20210328T030000
RDATE:20211031T020000
TZOFFSETFROM:+0100
TZOFFSETTO:+0200
TZNAME:Europe/Berlin CEST
END:DAYLIGHT
BEGIN:DAYLIGHT
DTSTART:20220327T030000
RDATE:20221030T020000
TZOFFSETFROM:+0100
TZOFFSETTO:+0200
TZNAME:Europe/Berlin CEST
END:DAYLIGHT
BEGIN:DAYLIGHT
DTSTART:20230326T030000
RDATE:20231029T020000
TZOFFSETFROM:+0100
TZOFFSETTO:+0200
TZNAME:Europe/Berlin CEST
END:DAYLIGHT
BEGIN:DAYLIGHT
DTSTART:20240331T030000
RDATE:20241027T020000
TZOFFSETFROM:+0100
TZOFFSETTO:+0200
TZNAME:Europe/Berlin CEST
END:DAYLIGHT
BEGIN:DAYLIGHT
DTSTART:20250330T030000
RDATE:20251026T020000
TZOFFSETFROM:+0100
TZOFFSETTO:+0200
TZNAME:Europe/Berlin CEST
END:DAYLIGHT
BEGIN:DAYLIGHT
DTSTART:20260329T030000
RDATE:20261025T020000
TZOFFSETFROM:+0100
TZOFFSETTO:+0200
TZNAME:Europe/Berlin CEST
END:DAYLIGHT
END:VTIMEZONE
BEGIN:VEVENT
UID:fd27da1e41cda72c05cf37077bcf4f21
CATEGORIES:Segeln
CREATED:20161208T172425
SUMMARY:Clubabend
LOCATION:SVTh
DESCRIPTION:die neuen Wettsegelbestimmungen und Taktik des Regattasegelns mit Stefan Th
 euerkauf, gerne Fallbeispiele vorher an Diese E-Mail-Adresse ist vor Spambo
 ts geschützt! Zur Anzeige muss JavaScript eingeschaltet sein!
				document.
 getElementById('cloak2a5fad3f5271b070a5edb0bac4b6be42').innerHTML = '';
			
 	var prefix = '&#109;a' + 'i&#108;' + '&#116;o';
				var path = 'hr' + 'ef'
  + '=';
				var addy2a5fad3f5271b070a5edb0bac4b6be42 = 'schl&#117;cksp&#101
 ;chtsn' + '&#64;';
				addy2a5fad3f5271b070a5edb0bac4b6be42 = addy2a5fad3f5
 271b070a5edb0bac4b6be42 + '&#105;cl&#111;&#117;d' + '&#46;' + 'd&#101;';
		
 		var addy_text2a5fad3f5271b070a5edb0bac4b6be42 = 'schl&#117;cksp&#101;chts
 n' + '&#64;' + '&#105;cl&#111;&#117;d' + '&#46;' + 'c&#111;m';document.getE
 lementById('cloak2a5fad3f5271b070a5edb0bac4b6be42').innerHTML += '<a ' + pa
 th + '\'' + prefix + ':' + addy2a5fad3f5271b070a5edb0bac4b6be42 + '\'>'+add
 y_text2a5fad3f5271b070a5edb0bac4b6be42+'';
		 mailen. (Paul Merten kann nic
 ht, da der SYC Vollversammlung hat.)\n
X-ALT-DESC;FMTTYPE=text/html:<p>die neuen Wettsegelbestimmungen und Taktik des Regattasegelns mit Stefan
  Theuerkauf, gerne Fallbeispiele vorher an <span id="cloak2a5fad3f5271b070a
 5edb0bac4b6be42">Diese E-Mail-Adresse ist vor Spambots geschützt! Zur Anzei
 ge muss JavaScript eingeschaltet sein!</span><script type='text/javascript'
 >
				document.getElementById('cloak2a5fad3f5271b070a5edb0bac4b6be42').inne
 rHTML = '';
				var prefix = '&#109;a' + 'i&#108;' + '&#116;o';
				var pat
 h = 'hr' + 'ef' + '=';
				var addy2a5fad3f5271b070a5edb0bac4b6be42 = 'schl
 &#117;cksp&#101;chtsn' + '&#64;';
				addy2a5fad3f5271b070a5edb0bac4b6be42 
 = addy2a5fad3f5271b070a5edb0bac4b6be42 + '&#105;cl&#111;&#117;d' + '&#46;' 
 + 'd&#101;';
				var addy_text2a5fad3f5271b070a5edb0bac4b6be42 = 'schl&#117
 ;cksp&#101;chtsn' + '&#64;' + '&#105;cl&#111;&#117;d' + '&#46;' + 'c&#111;m
 ';document.getElementById('cloak2a5fad3f5271b070a5edb0bac4b6be42').innerHTM
 L += '<a ' + path + '\'' + prefix + ':' + addy2a5fad3f5271b070a5edb0bac4b6b
 e42 + '\'>'+addy_text2a5fad3f5271b070a5edb0bac4b6be42+'<\/a>';
		</script> 
 mailen. (Paul Merten kann nicht, da der SYC Vollversammlung hat.)</p>
DTSTAMP:20260421T111202
DTSTART;TZID=Europe/Berlin:20170407T193000
SEQUENCE:0
TRANSP:OPAQUE
END:VEVENT
END:VCALENDAR