BEGIN:VCALENDAR
VERSION:2.0
PRODID:-//jEvents 2.0 for Joomla//EN
CALSCALE:GREGORIAN
METHOD:PUBLISH
BEGIN:VTIMEZONE
TZID:Europe/Berlin
BEGIN:STANDARD
DTSTART:20161030T020000
RDATE:20170326T030000
TZOFFSETFROM:+0200
TZOFFSETTO:+0100
TZNAME:Europe/Berlin CET
END:STANDARD
BEGIN:STANDARD
DTSTART:20171029T020000
RDATE:20180325T030000
TZOFFSETFROM:+0200
TZOFFSETTO:+0100
TZNAME:Europe/Berlin CET
END:STANDARD
BEGIN:STANDARD
DTSTART:20181028T020000
RDATE:20190331T030000
TZOFFSETFROM:+0200
TZOFFSETTO:+0100
TZNAME:Europe/Berlin CET
END:STANDARD
BEGIN:STANDARD
DTSTART:20191027T020000
RDATE:20200329T030000
TZOFFSETFROM:+0200
TZOFFSETTO:+0100
TZNAME:Europe/Berlin CET
END:STANDARD
BEGIN:STANDARD
DTSTART:20201025T020000
RDATE:20210328T030000
TZOFFSETFROM:+0200
TZOFFSETTO:+0100
TZNAME:Europe/Berlin CET
END:STANDARD
BEGIN:STANDARD
DTSTART:20211031T020000
RDATE:20220327T030000
TZOFFSETFROM:+0200
TZOFFSETTO:+0100
TZNAME:Europe/Berlin CET
END:STANDARD
BEGIN:STANDARD
DTSTART:20221030T020000
RDATE:20230326T030000
TZOFFSETFROM:+0200
TZOFFSETTO:+0100
TZNAME:Europe/Berlin CET
END:STANDARD
BEGIN:STANDARD
DTSTART:20231029T020000
RDATE:20240331T030000
TZOFFSETFROM:+0200
TZOFFSETTO:+0100
TZNAME:Europe/Berlin CET
END:STANDARD
BEGIN:STANDARD
DTSTART:20241027T020000
RDATE:20250330T030000
TZOFFSETFROM:+0200
TZOFFSETTO:+0100
TZNAME:Europe/Berlin CET
END:STANDARD
BEGIN:STANDARD
DTSTART:20251026T020000
RDATE:20260329T030000
TZOFFSETFROM:+0200
TZOFFSETTO:+0100
TZNAME:Europe/Berlin CET
END:STANDARD
BEGIN:STANDARD
DTSTART:20261025T020000
RDATE:20270328T030000
TZOFFSETFROM:+0200
TZOFFSETTO:+0100
TZNAME:Europe/Berlin CET
END:STANDARD
BEGIN:DAYLIGHT
DTSTART:20160430T000000
RDATE:20161030T020000
TZOFFSETFROM:+0100
TZOFFSETTO:+0200
TZNAME:Europe/Berlin CEST
END:DAYLIGHT
BEGIN:DAYLIGHT
DTSTART:20170326T030000
RDATE:20171029T020000
TZOFFSETFROM:+0100
TZOFFSETTO:+0200
TZNAME:Europe/Berlin CEST
END:DAYLIGHT
BEGIN:DAYLIGHT
DTSTART:20180325T030000
RDATE:20181028T020000
TZOFFSETFROM:+0100
TZOFFSETTO:+0200
TZNAME:Europe/Berlin CEST
END:DAYLIGHT
BEGIN:DAYLIGHT
DTSTART:20190331T030000
RDATE:20191027T020000
TZOFFSETFROM:+0100
TZOFFSETTO:+0200
TZNAME:Europe/Berlin CEST
END:DAYLIGHT
BEGIN:DAYLIGHT
DTSTART:20200329T030000
RDATE:20201025T020000
TZOFFSETFROM:+0100
TZOFFSETTO:+0200
TZNAME:Europe/Berlin CEST
END:DAYLIGHT
BEGIN:DAYLIGHT
DTSTART:20210328T030000
RDATE:20211031T020000
TZOFFSETFROM:+0100
TZOFFSETTO:+0200
TZNAME:Europe/Berlin CEST
END:DAYLIGHT
BEGIN:DAYLIGHT
DTSTART:20220327T030000
RDATE:20221030T020000
TZOFFSETFROM:+0100
TZOFFSETTO:+0200
TZNAME:Europe/Berlin CEST
END:DAYLIGHT
BEGIN:DAYLIGHT
DTSTART:20230326T030000
RDATE:20231029T020000
TZOFFSETFROM:+0100
TZOFFSETTO:+0200
TZNAME:Europe/Berlin CEST
END:DAYLIGHT
BEGIN:DAYLIGHT
DTSTART:20240331T030000
RDATE:20241027T020000
TZOFFSETFROM:+0100
TZOFFSETTO:+0200
TZNAME:Europe/Berlin CEST
END:DAYLIGHT
BEGIN:DAYLIGHT
DTSTART:20250330T030000
RDATE:20251026T020000
TZOFFSETFROM:+0100
TZOFFSETTO:+0200
TZNAME:Europe/Berlin CEST
END:DAYLIGHT
BEGIN:DAYLIGHT
DTSTART:20260329T030000
RDATE:20261025T020000
TZOFFSETFROM:+0100
TZOFFSETTO:+0200
TZNAME:Europe/Berlin CEST
END:DAYLIGHT
END:VTIMEZONE
BEGIN:VEVENT
UID:81f3595cd7f1f439d5134b18a31dd850
CATEGORIES:Segeln
CREATED:20161208T172725
SUMMARY:Ansegeln
LOCATION:SVTh
DESCRIPTION: \n Veranstaltungshinweis\n Traditionelles Ansegeln aller Schweriner Wasser
 sportvereine am 1. Mai 2017\nauf dem Schweriner See\n\n\nVeranstalter:     
 Schweriner Segler-Verein von 1894 e.V.\n\nTeilnehmer:      alle Segler und 
 Motorbootfahrer \n\n\nProgramm:\n\n12.00 Uhr  Eröffnung der Saison vor dem 
 Seglerheim des SSV, u.a.\n                   mit Eike Klemkow (ISSU) und de
 m Skipper-Chor des SSV.\n\n13.00 Uhr  Start in die Saison mit Demonstration
  aller Boote in der\n                   Schlossbucht gegen die Befahrensver
 bote auf dem See\n                   und anschließender Ausfahrt (bitte zah
 lreiche Teilnahme!)\n                   Kurs: je nach Wetterlage bis ca. 16
 .00 Uhr; die Ausfahrt wird\n                   von Dirk Joost (R 137) angef
 ührt.\n\n16.00 Uhr  Ausklang mit gemütlichem Beisammensein\n               
     auf der Terrasse des Seglerheims oder im Clubraum.\n\n\nWir wünschen al
 len Wassersportlern einen guten Start in die Saison 2017 und immer eine Han
 dbreit Wasser unter dem Kiel / Schwert.\n\n\nStephan Sollberg\n1.Vorsitzend
 er des Schweriner Segler-Vereins v. 1894 e.V.\n
X-ALT-DESC;FMTTYPE=text/html:<table border="1" class="TableNormal" style="border-collapse: collapse; wid
 th: 604px;" cellspacing="0" cellpadding="0"><tbody><tr style="height: 58.9p
 t;"><td style="width: 140.5pt; background: #feffff none repeat scroll 0% 0%
 ; padding: 0cm; height: 58.9pt;" width="187"> </td><td style="width: 295.65
 pt; background: #feffff none repeat scroll 0% 0%; padding: 0cm; height: 58.
 9pt;" valign="top" width="394"><p class="FreieForm" style="text-align: cent
 er;"><span style="font-size: 10.5pt; font-family: 'Arial Unicode MS',sans-s
 erif;"><br /> </span><b><span style="font-size: 24pt; font-family: 'Arial',
 sans-serif;">Veranstaltungshinweis</span></b></p></td><td style="width: 17.
 05pt; background: #feffff none repeat scroll 0% 0%; padding: 0cm; height: 5
 8.9pt;" valign="top" width="23"> </td></tr></tbody></table><p style="text-a
 lign: center;"><b><span style="font-size: 19pt; font-family: 'Helvetica',sa
 ns-serif;">Traditionelles Ansegeln aller Schweriner Wassersportvereine am 1
 . Mai 2017</span></b></p><p style="text-align: center;"><b><span style="fon
 t-size: 19pt; font-family: 'Helvetica',sans-serif;">auf dem Schweriner See<
 /span></b></p><p><span style="font-size: 15pt; font-family: 'Helvetica',san
 s-serif;"></span></p><p><span style="font-size: 15pt; font-family: 'Helveti
 ca',sans-serif;"></span></p><p><span style="font-size: 15pt; font-family: '
 Helvetica',sans-serif;">Veranstalter:     Schweriner Segler-Verein von 1894
  e.V.</span></p><p><span style="font-size: 15pt; font-family: 'Helvetica',s
 ans-serif;"></span></p><p><span style="font-size: 15pt; font-family: 'Helve
 tica',sans-serif;">Teilnehmer:      alle Segler und Motorbootfahrer </span>
 </p><p><span style="font-size: 15pt; font-family: 'Helvetica',sans-serif;">
 </span></p><p><span style="font-size: 15pt; font-family: 'Helvetica',sans-s
 erif;"></span></p><p><span style="font-size: 15pt; font-family: 'Helvetica'
 ,sans-serif;">Programm:</span></p><p><span style="font-size: 15pt; font-fam
 ily: 'Helvetica',sans-serif;"></span></p><p><span style="font-size: 14pt; f
 ont-family: 'Helvetica',sans-serif;">12.00 Uhr  Eröffnung der Saison vor de
 m Seglerheim des SSV, u.a.</span></p><p><span style="font-size: 14pt; font-
 family: 'Helvetica',sans-serif;">                   mit Eike Klemkow (ISSU)
  und </span><span style="font-size: 14pt; font-family: 'Helvetica',sans-ser
 if;">dem Skipper-Chor des SSV.</span></p><p><span style="font-size: 14pt; f
 ont-family: 'Helvetica',sans-serif;"></span></p><p><span style="font-size: 
 14pt; font-family: 'Helvetica',sans-serif;">13.00 Uhr  Start in die Saison 
 mit Demonstration <span style="text-decoration: underline;">aller Boote</sp
 an> in der</span></p><p><span style="font-size: 14pt; font-family: 'Helveti
 ca',sans-serif;">                   </span><span style="font-size: 14pt; fo
 nt-family: 'Helvetica',sans-serif;">Schlossbucht gegen die Befahrensverbote
  auf dem See</span></p><p><span style="font-size: 14pt; font-family: 'Helve
 tica',sans-serif;">                   und anschlie</span><span style="font-
 size: 14pt; font-family: 'Helvetica',sans-serif;">ßender Ausfahrt (<span st
 yle="text-decoration: underline;">bitte zahlreiche Teilnahme!</span>)</span
 ></p><p><span style="font-size: 14pt; font-family: 'Helvetica',sans-serif;"
 >                   Kurs: je nach Wetterlage bis ca. 16.00 Uhr</span><span 
 style="font-size: 14pt; font-family: 'Helvetica',sans-serif;">; die Ausfahr
 t wird</span></p><p><span style="font-size: 14pt; font-family: 'Helvetica',
 sans-serif;">                   von Dirk Joost (R 137) angef</span><span st
 yle="font-size: 14pt; font-family: 'Helvetica',sans-serif;">ührt.</span></p
 ><p><span style="font-size: 14pt; font-family: 'Helvetica',sans-serif;"></s
 pan></p><p><span style="font-size: 14pt; font-family: 'Helvetica',sans-seri
 f;">16.00 Uhr  Ausklang mit gemütlichem Beisammensein</span></p><p><span st
 yle="font-size: 14pt; font-family: 'Helvetica',sans-serif;">               
     auf der Terrasse des Seglerheims oder im Clubraum</span><span style="fo
 nt-size: 14pt; font-family: 'Helvetica',sans-serif;">.</span></p><p><span s
 tyle="font-size: 14pt; font-family: 'Helvetica',sans-serif;"></span></p><p>
 <span style="font-size: 14pt; font-family: 'Helvetica',sans-serif;"></span>
 </p><p><span style="font-size: 14pt; font-family: 'Helvetica',sans-serif;">
 Wir wünschen allen Wassersportlern einen guten Start in die Saison 2017 und
  immer eine Handbreit Wasser unter dem Kiel / Schwert.</span></p><p><span s
 tyle="font-size: 14pt; font-family: 'Helvetica',sans-serif;"></span></p><p>
 <span style="font-size: 14pt; font-family: 'Helvetica',sans-serif;"></span>
 </p><p><span style="font-size: 14pt; font-family: 'Helvetica',sans-serif;">
 Stephan Sollberg</span></p><p><i>1.</i><i><span style="font-size: 11pt; fon
 t-family: 'Helvetica',sans-serif;">Vorsitzender des Schweriner Segler-Verei
 ns v. 1894 e.V.</span></i></p>
X-EXTRAINFO:Nach dem Ansegeln ca. 16 Uhr wird bei uns am Verein angegrillt. Dies ist gl
 eichzeitig der 1. Clubabend am Grill.
DTSTAMP:20260421T112532
DTSTART;TZID=Europe/Berlin;VALUE=DATE:20170501
DTEND;TZID=Europe/Berlin;VALUE=DATE:20170502
SEQUENCE:0
TRANSP:OPAQUE
END:VEVENT
END:VCALENDAR